BEGIN:VCALENDAR
VERSION:2.0
PRODID:-//wp-events-plugin.com//7.2.3.1//EN
TZID:America/Winnipeg
X-WR-TIMEZONE:America/Winnipeg
BEGIN:VEVENT
UID:645@cmhaacrossmb.ca
DTSTART;TZID=America/Winnipeg:20191009T173000
DTEND;TZID=America/Winnipeg:20191009T193000
DTSTAMP:20190912T195518Z
URL:https://www.cmhaacrossmb.ca/events/youth-mental-health-speaker-trainin
 g/
SUMMARY:Youth Mental Health Speaker Training
DESCRIPTION:
CATEGORIES:Courses
LOCATION:Winnipeg\, 930 Portage Avenue\, Winnipeg\, Manitoba\, R3G 0P8\, Ca
 nada
GEO:49.884673;-97.17184700000001
X-APPLE-STRUCTURED-LOCATION;VALUE=URI;X-ADDRESS=930 Portage Avenue\, Winnip
 eg\, Manitoba\, R3G 0P8\, Canada;X-APPLE-RADIUS=100;X-TITLE=Winnipeg:geo:4
 9.884673,-97.17184700000001
END:VEVENT
BEGIN:VTIMEZONE
TZID:America/Winnipeg
X-LIC-LOCATION:America/Winnipeg
BEGIN:DAYLIGHT
DTSTART:20190310T030000
TZOFFSETFROM:-0600
TZOFFSETTO:-0500
TZNAME:CDT
END:DAYLIGHT
END:VTIMEZONE
END:VCALENDAR