BEGIN:VCALENDAR
VERSION:2.0
PRODID:-//wp-events-plugin.com//7.2.3.1//EN
TZID:America/Winnipeg
X-WR-TIMEZONE:America/Winnipeg
BEGIN:VEVENT
UID:1716@cmhaacrossmb.ca
DTSTART;TZID=America/Winnipeg:20250204T130000
DTEND;TZID=America/Winnipeg:20250311T150000
DTSTAMP:20241220T215859Z
URL:https://www.cmhaacrossmb.ca/events/wellness-recovery-action-plan-wrap-
 2025/
SUMMARY:Wellness Recovery Action Plan (WRAP)- 2025
DESCRIPTION:About the course\nFrom Mary Ellen Copeland - The Wellness Recov
 ery Action Plan or WRAP\, is a self-designed prevention and wellness proce
 ss that anyone can use to get well\, stay well and make their life the way
  they want it to be. It was developed in 1997 by a group of people who wer
 e searching for ways to overcome their own mental health issues and move o
 n to fulfilling their life dreams and goals. It is now used extensively by
  people in all kinds of circumstances\, and by health care and mental heal
 th systems all over the world to address various physical\, mental health 
 and life issues. This 6- session online course will guide you in discoveri
 ng your own wellness tools\, create a crisis plan and create a post-crisis
  plan.\n\n&nbsp\;\n\nDate(s): 6 Tuesdays\, February 4 - March 11\, 2025\nT
 ime: 1:00 PM - 3:00 PM\nLocation: CMHA\, 930 Portage Avenue - Blueberry R
 oom\nFacilitator(s): Sheryl Giesbrecht and Arlene Porritt\n\n&nbsp\;\n\nTo
  register for the Wellness Recovery Action Plan course\, please fill out t
 he form below:\n\n[gravityform id="1619" title="true" description="true"]\
 n\n&nbsp\;
CATEGORIES:Courses
LOCATION:CMHA Manitoba and Winnipeg\, 930 Portage Avenue\, Winnipeg\, Manit
 oba\, R3G 0P8\, Canada
GEO:49.884673;-97.171847
X-APPLE-STRUCTURED-LOCATION;VALUE=URI;X-ADDRESS=930 Portage Avenue\, Winnip
 eg\, Manitoba\, R3G 0P8\, Canada;X-APPLE-RADIUS=100;X-TITLE=CMHA Manitoba 
 and Winnipeg:geo:49.884673,-97.171847
END:VEVENT
BEGIN:VTIMEZONE
TZID:America/Winnipeg
X-LIC-LOCATION:America/Winnipeg
BEGIN:STANDARD
DTSTART:20241103T010000
TZOFFSETFROM:-0500
TZOFFSETTO:-0600
TZNAME:CST
END:STANDARD
BEGIN:DAYLIGHT
DTSTART:20250309T030000
TZOFFSETFROM:-0600
TZOFFSETTO:-0500
TZNAME:CDT
END:DAYLIGHT
END:VTIMEZONE
END:VCALENDAR