BEGIN:VCALENDAR
VERSION:2.0
PRODID:-//wp-events-plugin.com//7.2.3.1//EN
TZID:America/Winnipeg
X-WR-TIMEZONE:America/Winnipeg
BEGIN:VEVENT
UID:1284@cmhaacrossmb.ca
DTSTART;TZID=America/Winnipeg:20220824T133000
DTEND;TZID=America/Winnipeg:20220824T150000
DTSTAMP:20220721T192734Z
URL:https://www.cmhaacrossmb.ca/events/well-being-101-online-august/
SUMMARY:Well-Being 101 - Online - August
DESCRIPTION:This online course will provide you with an opportunity to conn
 ect with others to explore the various dimensions of our well-being and to
  identify strategies to stay resilient and focused on our self-care. To jo
 in this course\, you will need access to the internet or a phone. Instruct
 ions will be sent on how to join in once you have completed your registrat
 ion. We look forward to connecting with you and sharing ideas on how to fo
 cus on self-care.\n\nCourse date: Wednesday\, August 24\, 2022\nTime: 1:30
  pm to 3:00 pm\nLocation: Via online Zoom conferencing\nFacilitators: Rach
 el Chabbert and Matt MacRae\n\nTo register for the Well-being 101 online c
 ourse\, please fill out the form below.\n\n[gravityform id="1052" title="t
 rue" description="true"]\n\nInstructions on how to join the course through
  Zoom conferencing will be provided in your registration confirmation.
CATEGORIES:Learning Centre
END:VEVENT
BEGIN:VTIMEZONE
TZID:America/Winnipeg
X-LIC-LOCATION:America/Winnipeg
BEGIN:DAYLIGHT
DTSTART:20220313T030000
TZOFFSETFROM:-0600
TZOFFSETTO:-0500
TZNAME:CDT
END:DAYLIGHT
END:VTIMEZONE
END:VCALENDAR