BEGIN:VCALENDAR
VERSION:2.0
PRODID:-//wp-events-plugin.com//7.2.3.1//EN
TZID:America/Winnipeg
X-WR-TIMEZONE:America/Winnipeg
BEGIN:VEVENT
UID:1790@cmhaacrossmb.ca
DTSTART;TZID=America/Winnipeg:20250619T100000
DTEND;TZID=America/Winnipeg:20250911T120000
DTSTAMP:20250327T195657Z
URL:https://www.cmhaacrossmb.ca/events/walk-and-talk-drop-in-only-no-regis
 tration-required/
SUMMARY:Walk and Talk - Drop-in only\, no registration required
DESCRIPTION:&nbsp\;\n\nLooking for a way to engage in meaningful conversati
 on while getting fresh air and movement? Our Walk and Talks are relaxing\,
  drop-in events that combine thoughtful discussion with the benefits of ph
 ysical activity. Each session begins with a group discussion on a predeter
 mined topic\, story\, or article\, followed by a walk around the neighborh
 ood to continue the conversation in a more open and natural setting. It’
 s an opportunity to connect with others\, gain new perspectives\, and enjo
 y the mental and physical benefits of movement. Simply drop by\, join the 
 discussion\, and enjoy a walk with us!\n\n&nbsp\;\n\nDates: Every Thursday
 \, June 19 - September 11\, 2025\nTime: 10:00 AM - 12:00 PM\nLocation: Mee
 t at 930 Portage Avenue\nFacilitator(s): varies by week
LOCATION:Winnipeg\, 930 Portage Avenue\, Winnipeg\, Manitoba\, R3G 0P8\, Ca
 nada
GEO:49.884673;-97.17184700000001
X-APPLE-STRUCTURED-LOCATION;VALUE=URI;X-ADDRESS=930 Portage Avenue\, Winnip
 eg\, Manitoba\, R3G 0P8\, Canada;X-APPLE-RADIUS=100;X-TITLE=Winnipeg:geo:4
 9.884673,-97.17184700000001
END:VEVENT
BEGIN:VTIMEZONE
TZID:America/Winnipeg
X-LIC-LOCATION:America/Winnipeg
BEGIN:DAYLIGHT
DTSTART:20250309T030000
TZOFFSETFROM:-0600
TZOFFSETTO:-0500
TZNAME:CDT
END:DAYLIGHT
END:VTIMEZONE
END:VCALENDAR