BEGIN:VCALENDAR
VERSION:2.0
PRODID:-//wp-events-plugin.com//7.2.3.1//EN
TZID:America/Winnipeg
X-WR-TIMEZONE:America/Winnipeg
BEGIN:VEVENT
UID:697@cmhaacrossmb.ca
DTSTART;TZID=America/Winnipeg:20200521T190000
DTEND;TZID=America/Winnipeg:20200521T200000
DTSTAMP:20200512T160156Z
URL:https://www.cmhaacrossmb.ca/events/virtual-youth-town-hall-session-ii-
 may-21-2020-7pm/
SUMMARY:Virtual Youth Town Hall - Session II - May 21\, 2020 - 7pm
DESCRIPTION:Join the Canadian Mental Health Association\, Manitoba and Winn
 ipeg for a Virtual Youth Town Hall via Microsoft Teams! Students in grades
  10 to 12 will have the opportunity to share their ideas on mental health 
 topics they would like to learn more about. If you are a student in grades
  10 to 12\, join us in this session to talk about questions or themes surr
 ounding mental health. We want to learn from you!\nEvent details\n\n 	Sess
 ion II: Thursday\, May 21 – 7:00pm – 8:00pm\n 	Facilitators: Stephen S
 utherland and Taylor Demetrioff\n\nRegistration\nTo register for our onlin
 e Virtual Youth Town Hall event on May 21\, 2020 at 7:00PM\, please fill o
 ut the form below:\n\n[gravityform id="437" title="true" description="true
 "]\n\n&nbsp\;
CATEGORIES:Events
END:VEVENT
BEGIN:VTIMEZONE
TZID:America/Winnipeg
X-LIC-LOCATION:America/Winnipeg
BEGIN:DAYLIGHT
DTSTART:20200308T030000
TZOFFSETFROM:-0600
TZOFFSETTO:-0500
TZNAME:CDT
END:DAYLIGHT
END:VTIMEZONE
END:VCALENDAR