BEGIN:VCALENDAR
VERSION:2.0
PRODID:-//wp-events-plugin.com//7.2.3.1//EN
TZID:America/Winnipeg
X-WR-TIMEZONE:America/Winnipeg
BEGIN:VEVENT
UID:696@cmhaacrossmb.ca
DTSTART;TZID=America/Winnipeg:20200521T140000
DTEND;TZID=America/Winnipeg:20200521T150000
DTSTAMP:20200512T155337Z
URL:https://www.cmhaacrossmb.ca/events/virtual-youth-town-hall-session-i-m
 ay-21-2020-2pm/
SUMMARY:Virtual Youth Town Hall - Session I - May 21\, 2020 - 2pm
DESCRIPTION:Join the Canadian Mental Health Association\, Manitoba and Winn
 ipeg for a Virtual Youth Town Hall via Microsoft Teams! Students in grades
  10 to 12 will have the opportunity to share their ideas on mental health 
 topics they would like to learn more about. If you are a student in grades
  10 to 12\, join us in this session to talk about questions or themes surr
 ounding mental health. We want to learn from you!\nEvent details\n\n 	Sess
 ion I: Thursday\, May 21 – 2:00pm – 3:00pm\n 	Facilitators: Stephen Su
 therland and Taylor Demetrioff\n\nRegistration\nTo register for our online
  Virtual Youth Town Hall event on May 21\, 2020 at 2:00PM\, please fill ou
 t the form below:\n\n[gravityform id="436" title="true" description="true"
 ]\n\n&nbsp\;
CATEGORIES:Events
END:VEVENT
BEGIN:VTIMEZONE
TZID:America/Winnipeg
X-LIC-LOCATION:America/Winnipeg
BEGIN:DAYLIGHT
DTSTART:20200308T030000
TZOFFSETFROM:-0600
TZOFFSETTO:-0500
TZNAME:CDT
END:DAYLIGHT
END:VTIMEZONE
END:VCALENDAR