BEGIN:VCALENDAR
VERSION:2.0
PRODID:-//wp-events-plugin.com//7.2.3.1//EN
TZID:America/Winnipeg
X-WR-TIMEZONE:America/Winnipeg
BEGIN:VEVENT
UID:1947@cmhaacrossmb.ca
DTSTART;TZID=America/Winnipeg:20260414T140000
DTEND;TZID=America/Winnipeg:20260414T153000
DTSTAMP:20260316T211945Z
URL:https://www.cmhaacrossmb.ca/events/the-journey-to-forgiveness-and-lett
 ing-go-selkirk-mb/
SUMMARY:The Journey to Forgiveness and Letting Go (Selkirk\, MB)
DESCRIPTION:&nbsp\;\n\nForgiveness is a personal and sometimes challenging
  process and letting go of hurt can look different for every individual.
  This course introduces a variety of perspectives on forgiveness and what 
 it means to move forward. Through group reflection and discussion\, partic
 ipants will explore the common stages of forgiveness\, the impact of unres
 olved endings\, and the role of apologies. Participants will learn to reco
 gnize barriers that may arise and will leave with strategies for letting g
 o that feel right for their own journey.\n\n&nbsp\;\n\nDate:  Tuesday\, A
 pril 14\, 2026\nTime:  2:00pm to 3:30pm\nFacilitator(s):  Marie Cayer an
 d Robin McCabe\nLocation:  Selkirk Support Centre\, 242 Manitoba Avenue\n
 \n&nbsp\;\n\nTo register for our The Journey to Forgiveness and Letting Go
  (Selkirk\, MB) course\, please complete the form below:\n\n[gravityform i
 d="1839" title="true" description="true"]\n\n&nbsp\;\n\n&nbsp\;\n\n&nbsp\;
CATEGORIES:Selkirk Courses
LOCATION:Selkirk Support Centre\, 242 Manitoba Avenue\, Selkirk\, Manitoba\
 , R1A 0Y5\, Canada
GEO:50.144587;-96.871828
X-APPLE-STRUCTURED-LOCATION;VALUE=URI;X-ADDRESS=242 Manitoba Avenue\, Selki
 rk\, Manitoba\, R1A 0Y5\, Canada;X-APPLE-RADIUS=100;X-TITLE=Selkirk Suppor
 t Centre:geo:50.144587,-96.871828
END:VEVENT
BEGIN:VTIMEZONE
TZID:America/Winnipeg
X-LIC-LOCATION:America/Winnipeg
BEGIN:DAYLIGHT
DTSTART:20260308T030000
TZOFFSETFROM:-0600
TZOFFSETTO:-0500
TZNAME:CDT
END:DAYLIGHT
END:VTIMEZONE
END:VCALENDAR