BEGIN:VCALENDAR
VERSION:2.0
PRODID:-//wp-events-plugin.com//7.2.3.1//EN
TZID:America/Winnipeg
X-WR-TIMEZONE:America/Winnipeg
BEGIN:VEVENT
UID:481@cmhaacrossmb.ca
DTSTART;TZID=America/Winnipeg:20200626T040000
DTEND;TZID=America/Winnipeg:20200626T180000
DTSTAMP:20200526T231205Z
URL:https://www.cmhaacrossmb.ca/events/taking-stigma-to-the-trash-2020/
SUMMARY:Taking Stigma to the Trash 2020 - Fundraiser
DESCRIPTION:During the 6th annual Taking Stigma to the Trash run\, Junel Ma
 lapad has set a goal to run 100 kms. to raise funds and awareness about me
 ntal health and the stigma that can be associated with mental illness.\n\n
 Taking Stigma to the Trash started with Junel Malapad and began in light o
 f a personal connection to mental health tragedies in the community. This 
 event grows every year and is now a community initiative involving multipl
 e runners working together to #TrashStigma for mental health. Due to COVID
 -19\, this year's event will be a little different. We will be having a vi
 rtual run and a livestream of Junel as he powers through his goal. Please 
 follow CMHA Manitoba and Winnipeg on Facebook https://www.facebook.com/CMH
 Ambwpg/ as we live stream Taking Stigma to the Trash on Friday\, June 26\,
  2020 starting at 4:00 a.m.\n\nProceeds raised in Taking Stigma to the Tra
 sh will go directly to fund school-based mental illness literacy and stigm
 a reduction programming in schools and post-secondary institutions\, and p
 rograms for youth transitioning out of the child welfare system.\nWAYS TO 
 DONATE\n1. Send a cheque to:\nCMHA Manitoba and Winnipeg\n930 Portage Aven
 ue\nWinnipeg\, MB R3G 0P8\nPlease make cheque out to CMHA Manitoba and Win
 nipeg\n\n2. Donate online using any major credit card using the form below
 .\n\nAll donations over $10 will receive a charitable receipt.\n\n[gravity
 form id="73" title="true" description="true"]\n\n
ATTACH;FMTTYPE=image/jpeg:https://www.cmhaacrossmb.ca/wp-content/uploads/2
 018/05/TrashStigmaBanner.png
CATEGORIES:Events,Fundraisers
END:VEVENT
BEGIN:VTIMEZONE
TZID:America/Winnipeg
X-LIC-LOCATION:America/Winnipeg
BEGIN:DAYLIGHT
DTSTART:20200308T030000
TZOFFSETFROM:-0600
TZOFFSETTO:-0500
TZNAME:CDT
END:DAYLIGHT
END:VTIMEZONE
END:VCALENDAR