BEGIN:VCALENDAR
VERSION:2.0
PRODID:-//wp-events-plugin.com//7.2.3.1//EN
TZID:America/Winnipeg
X-WR-TIMEZONE:America/Winnipeg
BEGIN:VEVENT
UID:136@cmhaacrossmb.ca
DTSTART;TZID=America/Winnipeg:20180628T120000
DTEND;TZID=America/Winnipeg:20180629T180000
DTSTAMP:20180625T175253Z
URL:https://www.cmhaacrossmb.ca/events/taking-stigma-to-the-trash-2018/
SUMMARY:Taking Stigma to the Trash 2018
DESCRIPTION:Winnipeg community runners have set a goal to run 100 km over 3
 0 hours with hope to raise awareness around mental health and Take Stigma 
 to the Trash. Taking Stigma to the Trash began in light of a personal con
 nection to mental health tragedies in the community\, with hope to raise a
 wareness around mental health and reduce the stigma associated with mental
  illness. This event is now a community initiative involving multiple runn
 ers working together to #TrashStigma for mental health. Join them in Takin
 g Stigma to the Trash on Garbage Hill with a donation to CMHA Manitoba and
  Winnipeg.\n\nProceeds raised in Taking Stigma to the Trash will fund scho
 ol-based mental illness literacy and stigma reduction programming in schoo
 ls and post-secondary institutions\, and in programs for youth transitioni
 ng out of the child welfare system.\n\n\n\n\n\n&nbsp\;\n\nMental Health Aw
 areness Run\nLocation: Westview Park (GARBAGE HILL)\nDate: Thursday\, June
  28\, 2018 &amp\; Friday\, June 29\, 2018\nTime: 12:00 pm (June 28) - 6:00
  pm (June 29)\nWAYS TO DONATE\n1. Donate online using the form below\nAll 
 major credit cards accepted\n\n2. Send a cheque to:\nCMHA Manitoba and Win
 nipeg\n930 Portage Avenue\nWinnipeg\, MB R3G 0P8\nPlease make cheque out t
 o CMHA Manitoba and Winnipeg\n\n3. Give a cheque to event organizers on Ju
 ne 28 or 29\, 2018\n\nAll donations over $10 will receive a charitable rec
 eipt.\n\n[gravityform id="73" title="true" description="true"]
LOCATION:Westview Park\, 1 Midland Street\, Winnipeg\, Manitoba\, Canada
GEO:49.9071595;-97.18995610000002
X-APPLE-STRUCTURED-LOCATION;VALUE=URI;X-ADDRESS=1 Midland Street\, Winnipeg
 \, Manitoba\, Canada;X-APPLE-RADIUS=100;X-TITLE=Westview Park:geo:49.90715
 95,-97.18995610000002
END:VEVENT
BEGIN:VTIMEZONE
TZID:America/Winnipeg
X-LIC-LOCATION:America/Winnipeg
BEGIN:DAYLIGHT
DTSTART:20180311T030000
TZOFFSETFROM:-0600
TZOFFSETTO:-0500
TZNAME:CDT
END:DAYLIGHT
END:VTIMEZONE
END:VCALENDAR