BEGIN:VCALENDAR
VERSION:2.0
PRODID:-//wp-events-plugin.com//7.2.3.1//EN
TZID:America/Winnipeg
X-WR-TIMEZONE:America/Winnipeg
BEGIN:VEVENT
UID:912@cmhaacrossmb.ca
DTSTART;TZID=America/Winnipeg:20210323T090000
DTEND;TZID=America/Winnipeg:20210323T111500
DTSTAMP:20210301T195219Z
URL:https://www.cmhaacrossmb.ca/events/speak-up-facilitator-training-onlin
 e/
SUMMARY:Speak Up Facilitator Training - Online
DESCRIPTION:CMHA's Youth Mental Health Promotion team is excited to announc
 e that we are offering a Speak Up Facilitator Training session for all exi
 sting trained Facilitators.\n\nWe have made several revisions to Speak Up 
 based on best-practice evidence and with attention to cultural enhancement
 s. This specific training is geared to current Speak Up Facilitators inclu
 ding those who were trained some time ago and would like a refresh of the 
 program.\n\nThis session is being offered virtually  and will be followed
  by a Q and A session.\n\nNote: this virtual training session will be reco
 rded for those who are unable to attend and wish to view the training sess
 ion at a different time. The link will be provided to Facilitators upon re
 quest. \n\nCourse date: Tuesday\, March 23\, 2021\nTime: 9:00am to 11:15a
 m\nLocation: Via MS Teams\nFacilitator: Taylor Demetrioff\n\nTo register f
 or the Speak Up Facilitator Training online course\, please fill out the 
 form below:\n\n[gravityform id="668" title="true" description="true"]\n\nT
 he Teams link will be provided in your registration confirmation.
CATEGORIES:Courses,Mental Health First Aid - Basic
END:VEVENT
BEGIN:VTIMEZONE
TZID:America/Winnipeg
X-LIC-LOCATION:America/Winnipeg
BEGIN:DAYLIGHT
DTSTART:20210314T030000
TZOFFSETFROM:-0600
TZOFFSETTO:-0500
TZNAME:CDT
END:DAYLIGHT
END:VTIMEZONE
END:VCALENDAR