BEGIN:VCALENDAR
VERSION:2.0
PRODID:-//wp-events-plugin.com//7.2.3.1//EN
TZID:America/Winnipeg
X-WR-TIMEZONE:America/Winnipeg
BEGIN:VEVENT
UID:1630@cmhaacrossmb.ca
DTSTART;TZID=America/Winnipeg:20241022T133000
DTEND;TZID=America/Winnipeg:20241022T153000
DTSTAMP:20240819T213803Z
URL:https://www.cmhaacrossmb.ca/events/promoting-positivity-and-optimism-o
 nline-3/
SUMMARY:Promoting Positivity and Optimism - Online
DESCRIPTION:We can all use positivity and optimism in our lives\, particula
 rly during challenging times.  Emotional regulation is the effort we put 
 into how we think and how we behave to experience the emotions and moods w
 e want to feel.  Join us for a look at psychologist Barbara Fredrickson
 ’s ten positive emotions and how they can be applied to your life.\n\n&n
 bsp\;\n\nDate: Tuesday\, October 22\, 20234\n\nTime:  1:30 PM - 3:30 PM\n
 \nLocation: via Zoom\n\nFacilitator: Marie Cayer\n\n&nbsp\;\n\nTo register
  for the Promoting Positivity and Optimism online course\, please fill ou
 t the form below:\n\n&nbsp\;\n\n[gravityform id="1530" title="true" descri
 ption="true"]\n\n&nbsp\;
CATEGORIES:Courses
END:VEVENT
BEGIN:VTIMEZONE
TZID:America/Winnipeg
X-LIC-LOCATION:America/Winnipeg
BEGIN:DAYLIGHT
DTSTART:20240310T030000
TZOFFSETFROM:-0600
TZOFFSETTO:-0500
TZNAME:CDT
END:DAYLIGHT
END:VTIMEZONE
END:VCALENDAR