BEGIN:VCALENDAR
VERSION:2.0
PRODID:-//wp-events-plugin.com//7.2.3.1//EN
TZID:America/Winnipeg
X-WR-TIMEZONE:America/Winnipeg
BEGIN:VEVENT
UID:1629@cmhaacrossmb.ca
DTSTART;TZID=America/Winnipeg:20241022T133000
DTEND;TZID=America/Winnipeg:20241022T153000
DTSTAMP:20240819T213627Z
URL:https://www.cmhaacrossmb.ca/events/promoting-positivity-and-optimism-i
 n-person-2/
SUMMARY:Promoting Positivity and Optimism - In-person
DESCRIPTION:We can all use positivity and optimism in our lives\, particula
 rly during challenging times.  Emotional regulation is the effort we put 
 into how we think and how we behave to experience the emotions and moods w
 e want to feel.  Join us for a look at psychologist Barbara Fredrickson
 ’s ten positive emotions and how they can be applied to your life.\n\n&n
 bsp\;\n\nDate: Tuesday\, October 22\, 20234\n\nTime:  1:30 PM - 3:30 PM\n
 \nLocation: CMHA\, 930 Portage Avenue - Plum Room\n\nFacilitator: Marie Ca
 yer\n\n&nbsp\;\n\nTo register for the Promoting Positivity and Optimism i
 n-person course\, please fill out the form below:\n\n&nbsp\;\n\n[gravityfo
 rm id="1529" title="true" description="true"]\n\n&nbsp\;
CATEGORIES:Courses
LOCATION:Winnipeg\, 930 Portage Avenue\, Winnipeg\, Manitoba\, R3G 0P8\, Ca
 nada
GEO:49.884673;-97.17184700000001
X-APPLE-STRUCTURED-LOCATION;VALUE=URI;X-ADDRESS=930 Portage Avenue\, Winnip
 eg\, Manitoba\, R3G 0P8\, Canada;X-APPLE-RADIUS=100;X-TITLE=Winnipeg:geo:4
 9.884673,-97.17184700000001
END:VEVENT
BEGIN:VTIMEZONE
TZID:America/Winnipeg
X-LIC-LOCATION:America/Winnipeg
BEGIN:DAYLIGHT
DTSTART:20240310T030000
TZOFFSETFROM:-0600
TZOFFSETTO:-0500
TZNAME:CDT
END:DAYLIGHT
END:VTIMEZONE
END:VCALENDAR