BEGIN:VCALENDAR
VERSION:2.0
PRODID:-//wp-events-plugin.com//7.2.3.1//EN
TZID:America/Winnipeg
X-WR-TIMEZONE:America/Winnipeg
BEGIN:VEVENT
UID:1591@cmhaacrossmb.ca
DTSTART;TZID=America/Winnipeg:20251203T103000
DTEND;TZID=America/Winnipeg:20251203T120000
DTSTAMP:20251114T201448Z
URL:https://www.cmhaacrossmb.ca/events/online-course-physical-health/
SUMMARY:Online Course - Considering Your Physical Health
DESCRIPTION:This free\, 1.5 hour online course will explore how our physica
 l health is affected during difficult times\, looking at the benefits of n
 utrition and exercise\, moving toward creating a daily practice of enhanci
 ng one’s physical health.\n\n\n\nThis course is offered as part of our H
 OPE Learning Centre’s Recovery College program. The Learning Centre is o
 pen to all adult participants who wish to gain information and learn new s
 kills to support their own mental health and well-being recovery journey. 
 Participation in these classes also provides the opportunity to connect an
 d share with others in a mutually beneficial peer support environment. (*N
 ote that for confidentiality purposes\, online courses are not recorded an
 d are not available for offline viewing.)\n\n \n\nThis course is open to 
 all Canadian residents. To join this course you will need access to the in
 ternet or a phone. A confirmation e-mail will be sent to you with a link t
 o join the Zoom online course. If you do not receive the e-mail\, check yo
 ur junk/spam folder\, or call us at 204-614-8544. Please do not share your
  Zoom link with others. If you know of someone who would like to attend th
 e course\, please invite them to register directly on this page. Thank-you
 .\n\n[gravityform id="1490" title="true" description="true"]
CATEGORIES:Online
LOCATION:Prairie Mountain\, Unit 1 – 110 7th Ave. North  Swan River\, MB 
 R0L 1Z0\, Prairie Mountain\, Manitoba\, Canada
GEO:52.106444;-101.266654
X-APPLE-STRUCTURED-LOCATION;VALUE=URI;X-ADDRESS=Unit 1 – 110 7th Ave. Nor
 th  Swan River\, MB R0L 1Z0\, Prairie Mountain\, Manitoba\, Canada;X-APPLE
 -RADIUS=100;X-TITLE=Prairie Mountain:geo:52.106444,-101.266654
END:VEVENT
BEGIN:VTIMEZONE
TZID:America/Winnipeg
X-LIC-LOCATION:America/Winnipeg
BEGIN:STANDARD
DTSTART:20251102T010000
TZOFFSETFROM:-0500
TZOFFSETTO:-0600
TZNAME:CST
END:STANDARD
END:VTIMEZONE
END:VCALENDAR