BEGIN:VCALENDAR
VERSION:2.0
PRODID:-//wp-events-plugin.com//7.2.3.1//EN
TZID:America/Winnipeg
X-WR-TIMEZONE:America/Winnipeg
BEGIN:VEVENT
UID:1663@cmhaacrossmb.ca
DTSTART;TZID=America/Winnipeg:20260218T103000
DTEND;TZID=America/Winnipeg:20260218T120000
DTSTAMP:20260109T170630Z
URL:https://www.cmhaacrossmb.ca/events/loneliness-and-isolation/
SUMMARY:Online Course - Loneliness and Isolation
DESCRIPTION:Loneliness &amp\; isolation are a common experience for many an
 d can have a negative effect on one’s overall health. This free\, 1.5-ho
 ur online course will explore the experience of loneliness and offer sugge
 stions to cope with the emotions common to isolation.\n\n\n\nThis course i
 s offered as part of our HOPE Learning Centre’s Recovery College program
 . The Learning Centre is open to all adult participants who wish to gain i
 nformation and learn new skills to support their own mental health and wel
 l-being recovery journey. Participation in these classes also provides the
  opportunity to connect and share with others in a mutually beneficial pee
 r support environment. (*Note that for confidentiality purposes\, online c
 ourses are not recorded and are not available for offline viewing.)\n\n&nb
 sp\;\n\nThis course is open to all Canadian residents. To join this course
  you will need a device with access to the internet. A confirmation e-mail
  will be sent to you with a link to join the Zoom online course. If you do
  not receive the e-mail\, check your junk/spam folder\, or call us at 204-
 614-8544. Please do not share your Zoom link with others. If you know of s
 omeone who would like to attend the course\, please invite them to registe
 r directly on this page. Thank-you.\n\n[gravityform id="1565" title="true"
  description="true"]
CATEGORIES:Courses,Online
LOCATION:Prairie Mountain\, Unit 1 – 110 7th Ave. North  Swan River\, MB 
 R0L 1Z0\, Prairie Mountain\, Manitoba\, Canada
GEO:52.106444;-101.266654
X-APPLE-STRUCTURED-LOCATION;VALUE=URI;X-ADDRESS=Unit 1 – 110 7th Ave. Nor
 th  Swan River\, MB R0L 1Z0\, Prairie Mountain\, Manitoba\, Canada;X-APPLE
 -RADIUS=100;X-TITLE=Prairie Mountain:geo:52.106444,-101.266654
END:VEVENT
BEGIN:VTIMEZONE
TZID:America/Winnipeg
X-LIC-LOCATION:America/Winnipeg
BEGIN:STANDARD
DTSTART:20251102T010000
TZOFFSETFROM:-0500
TZOFFSETTO:-0600
TZNAME:CST
END:STANDARD
END:VTIMEZONE
END:VCALENDAR