BEGIN:VCALENDAR
VERSION:2.0
PRODID:-//wp-events-plugin.com//7.2.3.1//EN
TZID:America/Winnipeg
X-WR-TIMEZONE:America/Winnipeg
BEGIN:VEVENT
UID:1184@cmhaacrossmb.ca
DTSTART;TZID=America/Winnipeg:20220407T130000
DTEND;TZID=America/Winnipeg:20220407T160000
DTSTAMP:20220322T190630Z
URL:https://www.cmhaacrossmb.ca/events/journaling-april-2022/
SUMMARY:Journaling - April 2022
DESCRIPTION:Journaling is a great way to connect with your emotions\, recor
 d important experiences\, and develop perspective. This short course will 
 focus on the art and benefits of consistent journaling. Emphasis will be p
 laced on the unique approaches you can take with your own journaling pract
 ice.\n\nWe look forward to connecting with you and sharing ideas on how to
  journal your experiences through these ever changing times!\n\nCourse dat
 e: Thursday\, April 7\, 2022\nTime: 1:00PM - 4:00PM\nLocation: Plum Room a
 t 930 Portage Avenue\nFacilitator: Matt MacRae\n\nTo register for the Jour
 naling course\, please fill out the form below:\n\n[gravityform id="956" t
 itle="true" description="true"]\n\n&nbsp\;
CATEGORIES:Courses,Mental Health First Aid - Basic
LOCATION:Winnipeg\, 930 Portage Avenue\, Winnipeg\, Manitoba\, R3G 0P8\, Ca
 nada
GEO:49.884673;-97.17184700000001
X-APPLE-STRUCTURED-LOCATION;VALUE=URI;X-ADDRESS=930 Portage Avenue\, Winnip
 eg\, Manitoba\, R3G 0P8\, Canada;X-APPLE-RADIUS=100;X-TITLE=Winnipeg:geo:4
 9.884673,-97.17184700000001
END:VEVENT
BEGIN:VTIMEZONE
TZID:America/Winnipeg
X-LIC-LOCATION:America/Winnipeg
BEGIN:DAYLIGHT
DTSTART:20220313T030000
TZOFFSETFROM:-0600
TZOFFSETTO:-0500
TZNAME:CDT
END:DAYLIGHT
END:VTIMEZONE
END:VCALENDAR