BEGIN:VCALENDAR
VERSION:2.0
PRODID:-//wp-events-plugin.com//7.2.3.1//EN
TZID:America/Winnipeg
X-WR-TIMEZONE:America/Winnipeg
BEGIN:VEVENT
UID:1780@cmhaacrossmb.ca
DTSTART;TZID=America/Winnipeg:20250610T133000
DTEND;TZID=America/Winnipeg:20250610T150000
DTSTAMP:20250327T163736Z
URL:https://www.cmhaacrossmb.ca/events/insights-into-anxiety-in-person-4/
SUMMARY:Insights into Anxiety (In-person)
DESCRIPTION:Anxiety can have a significant impact on both your mental and p
 hysical well-being. In this course\, we will explore the various symptoms 
 of anxiety\, covering the emotional and physical aspects. You’ll learn a
 bout the different types of anxiety and how they manifest\, along with eff
 ective treatment options and coping strategies. Resources will also be pro
 vided to help you better understand and manage anxiety in your life.\n\n&n
 bsp\;\n\nDate: Tuesday\, June 10\, 2025\nTime:  1:30 PM - 3:00 PM\nLocati
 on:  CMHA\, 930 Portage Avenue - Blueberry Room\nFacilitator(s): Karen Ho
 ersch\n\n&nbsp\;\n\nTo register for the Insights into Anxiety in-person co
 urse\, please fill out the form below:\n\n[gravityform id="1682" title="tr
 ue" description="true"]\n\n&nbsp\;
CATEGORIES:Courses
LOCATION:Winnipeg\, 930 Portage Avenue\, Winnipeg\, Manitoba\, R3G 0P8\, Ca
 nada
GEO:49.884673;-97.17184700000001
X-APPLE-STRUCTURED-LOCATION;VALUE=URI;X-ADDRESS=930 Portage Avenue\, Winnip
 eg\, Manitoba\, R3G 0P8\, Canada;X-APPLE-RADIUS=100;X-TITLE=Winnipeg:geo:4
 9.884673,-97.17184700000001
END:VEVENT
BEGIN:VTIMEZONE
TZID:America/Winnipeg
X-LIC-LOCATION:America/Winnipeg
BEGIN:DAYLIGHT
DTSTART:20250309T030000
TZOFFSETFROM:-0600
TZOFFSETTO:-0500
TZNAME:CDT
END:DAYLIGHT
END:VTIMEZONE
END:VCALENDAR