BEGIN:VCALENDAR
VERSION:2.0
PRODID:-//wp-events-plugin.com//7.2.3.1//EN
TZID:America/Winnipeg
X-WR-TIMEZONE:America/Winnipeg
BEGIN:VEVENT
UID:852@cmhaacrossmb.ca
DTSTART;TZID=America/Winnipeg:20201221T170000
DTEND;TZID=America/Winnipeg:20201221T190000
DTSTAMP:20201126T161148Z
URL:https://www.cmhaacrossmb.ca/events/for-young-adults-considering-your-p
 hysical-health-during-current-events-online-course/
SUMMARY:For Young Adults! Considering Your Physical Health During Current E
 vents
DESCRIPTION:It's difficult to feel any sense of control during recent curre
 nt events\, but one thing you can take control of is\, how you treat your 
 body.\n\nLearn how a nutritious diet and exercise contribute to your menta
 l health and overall well-being.\n\nThis course is directed at young adult
 s between the ages of 17 to 25.\n\nTo join this online course you will nee
 d access to the internet or a phone. We look forward to connecting with yo
 u.\n\nCourse date: Monday\, December 21\, 2020\nTime: 5:00 to 7:00\nLocati
 on: Via online Zoom conferencing\nFacilitators: Rianne Still and Paige Zap
 orzan\n\nTo register for the Young Adults - Considering Your Physical Heal
 th during Current Events - December 21\, 2020 online course\, please fill 
 out the form below:\n\n[gravityform id="593" title="true" description="tru
 e"]\n\nInstructions on how to join the course through Zoom conferencing wi
 ll be provided in your registration confirmation.
CATEGORIES:Courses,Mental Health First Aid - Basic
END:VEVENT
BEGIN:VTIMEZONE
TZID:America/Winnipeg
X-LIC-LOCATION:America/Winnipeg
BEGIN:STANDARD
DTSTART:20201101T010000
TZOFFSETFROM:-0500
TZOFFSETTO:-0600
TZNAME:CST
END:STANDARD
END:VTIMEZONE
END:VCALENDAR