BEGIN:VCALENDAR
VERSION:2.0
PRODID:-//wp-events-plugin.com//7.2.3.1//EN
TZID:America/Winnipeg
X-WR-TIMEZONE:America/Winnipeg
BEGIN:VEVENT
UID:2008@cmhaacrossmb.ca
DTSTART;TZID=America/Winnipeg:20260521T133000
DTEND;TZID=America/Winnipeg:20260521T160000
DTSTAMP:20260414T173958Z
URL:https://www.cmhaacrossmb.ca/events/film-study-movie-the-secret-she-kep
 t/
SUMMARY:Film Study: Movie: The Secret She Kept
DESCRIPTION:&nbsp\;\n\nFilm is a powerful form of storytelling that can ent
 ertain\, inspire and help us understand complex experiences. Participants 
 are invited to enjoy a film that explores themes related to mental health 
 and see how movies can convey important messages about resilience\, strugg
 le\, and human connection. Afterwards\, a guided discussion will explore t
 he film's portrayal of individuals living with mental health challenges\, 
 how media shapes public perceptions\, and the ways stories can challenge o
 r reinforce stereotypes. This session provides a relaxed and supportive sp
 ace to reflect\, share insights\, and appreciate the role of film in promo
 ting awareness\, empathy\, and meaningful conversation about mental health
 .\n\n&nbsp\;\n\nMovie:  The Secret She Kept\nDate: Thursday\, May 21\, 20
 26\nTime: 1:30 PM - 4:00 PM\nLocation: CMHA\, 930 Portage Avenue - Plum Ro
 om\nFacilitator(s): Bosede Oyelakin\n\n&nbsp\;\n\nTo register for the Film
  Studies: Movie: The Secret She Kept\, please fill out the form below:\n\n
 [gravityform id="1890" title="true" description="true"]
CATEGORIES:Courses,MB
LOCATION:Winnipeg\, 930 Portage Avenue\, Winnipeg\, Manitoba\, R3G 0P8\, Ca
 nada
GEO:49.884673;-97.17184700000001
X-APPLE-STRUCTURED-LOCATION;VALUE=URI;X-ADDRESS=930 Portage Avenue\, Winnip
 eg\, Manitoba\, R3G 0P8\, Canada;X-APPLE-RADIUS=100;X-TITLE=Winnipeg:geo:4
 9.884673,-97.17184700000001
END:VEVENT
BEGIN:VTIMEZONE
TZID:America/Winnipeg
X-LIC-LOCATION:America/Winnipeg
BEGIN:DAYLIGHT
DTSTART:20260308T030000
TZOFFSETFROM:-0600
TZOFFSETTO:-0500
TZNAME:CDT
END:DAYLIGHT
END:VTIMEZONE
END:VCALENDAR