BEGIN:VCALENDAR
VERSION:2.0
PRODID:-//wp-events-plugin.com//7.2.3.1//EN
TZID:America/Winnipeg
X-WR-TIMEZONE:America/Winnipeg
BEGIN:VEVENT
UID:754@cmhaacrossmb.ca
DTSTART;TZID=America/Winnipeg:20200812T130000
DTEND;TZID=America/Winnipeg:20200812T143000
DTSTAMP:20200629T212505Z
URL:https://www.cmhaacrossmb.ca/events/creating-a-successful-transition-to
 -your-first-semester-of-virtual-post-secondary-learning-ii-2/
SUMMARY:Creating a Successful Transition to Your First Semester of Virtual 
 Post-Secondary Learning - II
DESCRIPTION:March 2020 will be in our history textbooks as the month and ye
 ar a global pandemic put a pause on in classroom education. Graduates of 2
 020 will be known for their tenacity in adapting to unprecedented change i
 n order to meet the requirements for graduation! Way to go graduates!\n\nT
 ransitioning to Post-Secondary outside a global pandemic can be daunting a
 nd full of stress– so as we re-think how students make their way to camp
 uses across the country this fall – there’s no greater opportunity tha
 n now to begin making plans to roll out a successful transition to post-se
 condary.\n\nThrough a webinar format\, students will have the opportunity 
 to join the Youth Mental Health Promotion team on two occasions. In this s
 econd webinar\, students will come away with some additional knowledge on:
 \n\n• the importance of engaging in Student Services support – navigat
 ing resources that students have access to\n• supporting their mental he
 alth when stress is the reality\n• how to begin thinking of what an acti
 on plan would look like in the first few steps before the fall semester be
 gins\n\nTo join this session you will need access to the internet or a pho
 ne. We look forward to connecting with you!\n\nCourse date: Wednesday\, Au
 gust 12\, 2020\nTime: 1:00 to 2:30\nLocation: Via online using the MS Team
 s app\nFacilitators: Stephen Sutherland\, Taylor Demetrioff\, and Baily He
 ndry\n\nTo register for the Creating a Successful Transition to Your First
  Semester of Virtual Post-Secondary Learning - II online course\, please f
 ill out the form below:\n\n[gravityform id="499" title="true" description=
 "true"]\n\nInstructions on how to join the course through MS Teams will be
  provided in your confirmation email.
CATEGORIES:Courses,Mental Health First Aid - Basic
END:VEVENT
BEGIN:VTIMEZONE
TZID:America/Winnipeg
X-LIC-LOCATION:America/Winnipeg
BEGIN:DAYLIGHT
DTSTART:20200308T030000
TZOFFSETFROM:-0600
TZOFFSETTO:-0500
TZNAME:CDT
END:DAYLIGHT
END:VTIMEZONE
END:VCALENDAR