BEGIN:VCALENDAR
VERSION:2.0
PRODID:-//wp-events-plugin.com//7.2.3.1//EN
TZID:America/Winnipeg
X-WR-TIMEZONE:America/Winnipeg
BEGIN:VEVENT
UID:753@cmhaacrossmb.ca
DTSTART;TZID=America/Winnipeg:20200708T130000
DTEND;TZID=America/Winnipeg:20200708T143000
DTSTAMP:20200629T211257Z
URL:https://www.cmhaacrossmb.ca/events/creating-a-successful-transition-to
 -your-first-semester-of-virtual-post-secondary-learning-i/
SUMMARY:Creating a Successful Transition to Your First Semester of Virtual 
 Post-Secondary Learning - I
DESCRIPTION:March 2020 will be in our history textbooks as the month and ye
 ar a global pandemic put a pause on in classroom education. Graduates of 2
 020 will be known for their tenacity in adapting to unprecedented change i
 n order to meet the requirements for graduation! Way to go graduates!\n\nT
 ransitioning to Post-Secondary outside a global pandemic can be daunting a
 nd full of stress – so as we re-think how students make their way to cam
 puses across the country this fall – there’s no greater opportunity th
 an now to begin making plans to roll out a successful transition to post-s
 econdary.\n\nThrough a webinar format\, students will have the opportunity
  to join the Youth Mental Health Promotion team on two occasions. The firs
 t webinar will focus on individual skills that will help students thrive i
 n their new virtual environments\, such as:\n• staying motivated and pas
 sionate about your education\n• learning how to have greater self-awaren
 ess\n• how to manage academic/work/home life to maintain a heathy balanc
 e\n• how to create meaningful connections with peers and faculty on camp
 us\n\nTo join this session you will need access to the internet or a phone
 . We look forward to connecting with you!\n\nCourse date: Wednesday\, July
  8\, 2020\nTime: 1:00 to 2:30\nLocation: Via online using the MS Teams app
 \nFacilitators: Stephen Sutherland\, Taylor Demetrioff\, and Baily Hendry\
 n\nTo register for the Creating a Successful Transition to Your First Seme
 ster of Virtual Post-Secondary Learning - I online course\, please fill ou
 t the form below:\n\n[gravityform id="498" title="true" description="true"
 ]\n\nInstructions on how to join the course through MS Teams will be provi
 ded in your confirmation email.
CATEGORIES:Courses,Mental Health First Aid - Basic
END:VEVENT
BEGIN:VTIMEZONE
TZID:America/Winnipeg
X-LIC-LOCATION:America/Winnipeg
BEGIN:DAYLIGHT
DTSTART:20200308T030000
TZOFFSETFROM:-0600
TZOFFSETTO:-0500
TZNAME:CDT
END:DAYLIGHT
END:VTIMEZONE
END:VCALENDAR