BEGIN:VCALENDAR
VERSION:2.0
PRODID:-//wp-events-plugin.com//7.2.3.1//EN
TZID:America/Winnipeg
X-WR-TIMEZONE:America/Winnipeg
BEGIN:VEVENT
UID:1069@cmhaacrossmb.ca
DTSTART;TZID=America/Winnipeg:20210915T133000
DTEND;TZID=America/Winnipeg:20210915T150000
DTSTAMP:20210823T203617Z
URL:https://www.cmhaacrossmb.ca/events/considering-your-physical-health-vi
 a-zoom/
SUMMARY:Considering Your Physical Health (via Zoom)
DESCRIPTION:It is difficult to feel any sense of control during stressful t
 imes but one thing you can take control of is how you treat your body.  L
 earn how a nutritious diet and exercise contribute to your mental health a
 nd overall well-being.  To join this course\, you will need access to the
  internet or a phone. Instructions will be sent on how to join in once you
  have completed your registration. We look forward to connecting with you 
 and sharing ideas on how to manage daily and during challenging current ev
 ents\n\nTo join this course you will need access to the internet or a phon
 e.\n\nDate\nTuesday\, September 15\, 2021\n\nTime\n1:30 pm to 3:00 pm\n\nF
 acilitator\nSpenser Martin\n\nLocation\nVia Zoom Conferencing\n\nTo regist
 er for the Considering Your Physical Health online course\, please fill ou
 t the form below:\n\n[gravityform id="833" title="true" description="true"
 ]\n\nInstructions on how to join the course through Zoom conferencing will
  be provided in your registration confirmation.
CATEGORIES:Courses,Mental Health First Aid - Basic
END:VEVENT
BEGIN:VTIMEZONE
TZID:America/Winnipeg
X-LIC-LOCATION:America/Winnipeg
BEGIN:DAYLIGHT
DTSTART:20210314T030000
TZOFFSETFROM:-0600
TZOFFSETTO:-0500
TZNAME:CDT
END:DAYLIGHT
END:VTIMEZONE
END:VCALENDAR