BEGIN:VCALENDAR
VERSION:2.0
PRODID:-//wp-events-plugin.com//7.2.3.1//EN
TZID:America/Winnipeg
X-WR-TIMEZONE:America/Winnipeg
BEGIN:VEVENT
UID:1249@cmhaacrossmb.ca
DTSTART;TZID=America/Winnipeg:20220607T133000
DTEND;TZID=America/Winnipeg:20220607T150000
DTSTAMP:20220525T201054Z
URL:https://www.cmhaacrossmb.ca/events/considering-your-physical-health-on
 line-june/
SUMMARY:Considering Your Physical Health - Online - June
DESCRIPTION:It is difficult to feel any sense of control during stressful t
 imes but one thing you can take control of is how you treat your body.  L
 earn how a nutritious diet and exercise contribute to your mental health a
 nd overall well-being.  To join this course\, you will need access to the
  internet or a phone. Instructions will be sent on how to join in once you
  have completed your registration. We look forward to connecting with you 
 and sharing ideas on how to manage daily and during challenging current ev
 ents.\n\n&nbsp\;\n\nDate:  Tuesday\, June 7\, 2022\n\nTime: 1:30pm to 3:0
 0pm\n\nFacilitators: Stacey Krueger and Matt MacRae\n\nLocation: Via Zoom 
 Conferencing\n\nTo register for the Considering Your Physical Health onlin
 e course\, please fill out the form below:\n\n[gravityform id="1019" title
 ="true" description="true"]\n\nInstructions on how to join the course thro
 ugh Zoom conferencing will be provided in your registration confirmation.
CATEGORIES:Courses,Mental Health First Aid - Basic
END:VEVENT
BEGIN:VTIMEZONE
TZID:America/Winnipeg
X-LIC-LOCATION:America/Winnipeg
BEGIN:DAYLIGHT
DTSTART:20220313T030000
TZOFFSETFROM:-0600
TZOFFSETTO:-0500
TZNAME:CDT
END:DAYLIGHT
END:VTIMEZONE
END:VCALENDAR