BEGIN:VCALENDAR
VERSION:2.0
PRODID:-//wp-events-plugin.com//7.2.3.1//EN
TZID:America/Winnipeg
X-WR-TIMEZONE:America/Winnipeg
BEGIN:VEVENT
UID:1703@cmhaacrossmb.ca
DTSTART;TZID=America/Winnipeg:20250204T133000
DTEND;TZID=America/Winnipeg:20250204T150000
DTSTAMP:20241220T204258Z
URL:https://www.cmhaacrossmb.ca/events/considering-your-physical-health-in
 -person/
SUMMARY:Considering Your Physical Health (In-person)
DESCRIPTION:During Stressful times\, it can feel hard to maintain control\,
  but focusing on your physical health is one area where you can make a pos
 itive impact. In this 90-minute session\, you will explore the importance 
 of taking care of your body\, especially when facing challenges. Learn how
  nutrition\, hydration\, and exercise directly affect your mental well-bei
 ng and overall health.\n\n&nbsp\;\n\nCourse date: Tuesday\, February 4\, 2
 025\nTime: 1:30 PM - 3:00 PM\nLocation: CMHA\, 930 Portage Avenue - Plum R
 oom\nFacilitator(s): Devin Vermette\n\n&nbsp\;\n\nTo register for the Cons
 idering Your Physical Health in-person course\, please fill out the form 
 below:\n\n[gravityform id="1604" title="true" description="true"]\n\n&nbsp
 \;
CATEGORIES:Courses
END:VEVENT
BEGIN:VTIMEZONE
TZID:America/Winnipeg
X-LIC-LOCATION:America/Winnipeg
BEGIN:STANDARD
DTSTART:20241103T010000
TZOFFSETFROM:-0500
TZOFFSETTO:-0600
TZNAME:CST
END:STANDARD
END:VTIMEZONE
END:VCALENDAR