BEGIN:VCALENDAR
VERSION:2.0
PRODID:-//wp-events-plugin.com//7.2.3.1//EN
TZID:America/Winnipeg
X-WR-TIMEZONE:America/Winnipeg
BEGIN:VEVENT
UID:1778@cmhaacrossmb.ca
DTSTART;TZID=America/Winnipeg:20250603T133000
DTEND;TZID=America/Winnipeg:20250603T150000
DTSTAMP:20250327T163453Z
URL:https://www.cmhaacrossmb.ca/events/considering-your-physical-health-in
 -person-2/
SUMMARY:Considering Your Physical Health (In-person)
DESCRIPTION:&nbsp\;\n\nIn this 90-minute session\, you will explore the imp
 ortance of taking care of your body\, especially when facing challenges. Y
 our physical health is the foundation for your mental and emotional well-b
 eing: it impacts your energy\, mood\, and ability to cope with stress. Lea
 rn how nutrition\, hydration\, and exercise directly affect your mental we
 ll-being and overall health and discover practical ways to support your bo
 dy in a way that enhances every aspect of your life.\n\n&nbsp\;\n\nCourse 
 date: Tuesday\, June 3\, 2025\nTime: 1:30 PM - 3:00 PM\nLocation: CMHA\, 9
 30 Portage Avenue - Blueberry Room\nFacilitator(s): Devin Vermette and Hai
 ley Kupiak\n\n&nbsp\;\n\nTo register for the Considering Your Physical Hea
 lth in-person course\, please fill out the form below:\n\n[gravityform id
 ="1680" title="true" description="true"]\n\n&nbsp\;
CATEGORIES:Courses
LOCATION:CMHA Manitoba and Winnipeg\, 930 Portage Avenue\, Winnipeg\, Manit
 oba\, R3G 0P8\, Canada
GEO:49.884673;-97.171847
X-APPLE-STRUCTURED-LOCATION;VALUE=URI;X-ADDRESS=930 Portage Avenue\, Winnip
 eg\, Manitoba\, R3G 0P8\, Canada;X-APPLE-RADIUS=100;X-TITLE=CMHA Manitoba 
 and Winnipeg:geo:49.884673,-97.171847
END:VEVENT
BEGIN:VTIMEZONE
TZID:America/Winnipeg
X-LIC-LOCATION:America/Winnipeg
BEGIN:DAYLIGHT
DTSTART:20250309T030000
TZOFFSETFROM:-0600
TZOFFSETTO:-0500
TZNAME:CDT
END:DAYLIGHT
END:VTIMEZONE
END:VCALENDAR