BEGIN:VCALENDAR
VERSION:2.0
PRODID:-//wp-events-plugin.com//7.2.3.1//EN
TZID:America/Winnipeg
X-WR-TIMEZONE:America/Winnipeg
BEGIN:VEVENT
UID:1297@cmhaacrossmb.ca
DTSTART;TZID=America/Winnipeg:20221013T183000
DTEND;TZID=America/Winnipeg:20221215T200000
DTSTAMP:20221011T161205Z
URL:https://www.cmhaacrossmb.ca/events/addiction-recovery-skills-choice-an
 d-change-online/
SUMMARY:Addiction Recovery Skills: Choice and Change - Online
DESCRIPTION:Are you looking for information about substance use disorder or
  addiction? Are you curious or concerned about your use of alcohol\, drugs
 \, or addictive behaviour? Do you want to find out about connections betwe
 en mental health/illness and substance use or addiction? Are you exploring
  the possibility of change? We will provide accurate and up-to-date inform
 ation about:\n\n 	Addiction - what it is and how it develops\n 	Risk Facto
 rs\n 	Motivation - tools and skills for change\n 	Strategies to reduce har
 m or stop use\n 	Resources\n 	Supports and self-help\n\nJoin us for inform
 ation\, self-awareness\, insight\, skills and to connect with resources.\n
 \n*Please note that this course is not a replacement for counselling\, the
 rapy\, or treatment.\n\nTo join this course you will need access to the in
 ternet or a phone. We look forward to connecting with you.\n\nCourse date:
  Thursday evenings: October 13\,20\, 27\; November 10\, 24\; December 8 &a
 mp\; 15\, 2022\nTime:  6:30 PM - 8:00 PM\nLocation: Via online Zoom confe
 rencing\nFacilitators: Tracy Fehr\, Matt McRae\, and Karen Hoersch\n\nTo r
 egister for the Addiction Recovery Skills: Choice and Change online course
 \, please fill out the form below:\n\n[gravityform id="1066" title="true" 
 description="true"]\n\nInstructions on how to join the course through Zoom
  conferencing will be provided in your registration confirmation.
CATEGORIES:Courses,Mental Health First Aid - Basic
END:VEVENT
BEGIN:VTIMEZONE
TZID:America/Winnipeg
X-LIC-LOCATION:America/Winnipeg
BEGIN:DAYLIGHT
DTSTART:20220313T030000
TZOFFSETFROM:-0600
TZOFFSETTO:-0500
TZNAME:CDT
END:DAYLIGHT
BEGIN:STANDARD
DTSTART:20221106T010000
TZOFFSETFROM:-0500
TZOFFSETTO:-0600
TZNAME:CST
END:STANDARD
END:VTIMEZONE
END:VCALENDAR